Package: edgeR Version: 4.2.0 Command: rm -rf edgeR.buildbin-libdir && mkdir edgeR.buildbin-libdir && /Users/biocbuild/BBS/utils/build-universal.sh edgeR_4.2.0.tar.gz /Library/Frameworks/R.framework/Resources/bin/R edgeR.buildbin-libdir StartedAt: 2024-06-10 00:16:31 -0400 (Mon, 10 Jun 2024) EndedAt: 2024-06-10 00:18:21 -0400 (Mon, 10 Jun 2024) EllapsedTime: 109.3 seconds RetCode: 0 Status: OK PackageFile: edgeR_4.2.0.tgz PackageFileSize: 2.72 MiB