Package: edgeR Version: 4.2.0 Command: /home/biocbuild/R/R-beta-2024-04-15_r86425/bin/R CMD build --keep-empty-dirs --no-resave-data edgeR StartedAt: 2024-05-09 00:03:25 -0000 (Thu, 09 May 2024) EndedAt: 2024-05-09 00:06:31 -0000 (Thu, 09 May 2024) EllapsedTime: 185.3 seconds RetCode: 0 Status: OK PackageFile: edgeR_4.2.0.tar.gz PackageFileSize: 3.297 MiB