Package: edgeR Version: 4.2.0 Command: /Library/Frameworks/R.framework/Resources/bin/R CMD check --install=check:edgeR.install-out.txt --library=/Library/Frameworks/R.framework/Resources/library --no-vignettes --timings edgeR_4.2.0.tar.gz StartedAt: 2024-06-10 14:34:27 -0400 (Mon, 10 Jun 2024) EndedAt: 2024-06-10 14:37:19 -0400 (Mon, 10 Jun 2024) EllapsedTime: 171.9 seconds RetCode: 0 Status: OK CheckDir: edgeR.Rcheck Warnings: 0