Package: edgeR Version: 4.2.2 Command: /Library/Frameworks/R.framework/Resources/bin/R CMD check --install=check:edgeR.install-out.txt --library=/Library/Frameworks/R.framework/Resources/library --no-vignettes --timings edgeR_4.2.2.tar.gz StartedAt: 2024-10-17 20:28:39 -0400 (Thu, 17 Oct 2024) EndedAt: 2024-10-17 20:30:14 -0400 (Thu, 17 Oct 2024) EllapsedTime: 95.2 seconds RetCode: 0 Status: OK CheckDir: edgeR.Rcheck Warnings: 0