Package: edgeR Version: 4.2.2 Command: /Library/Frameworks/R.framework/Resources/bin/R CMD build --keep-empty-dirs --no-resave-data edgeR StartedAt: 2024-10-16 23:51:03 -0400 (Wed, 16 Oct 2024) EndedAt: 2024-10-16 23:52:25 -0400 (Wed, 16 Oct 2024) EllapsedTime: 82.2 seconds RetCode: 0 Status: OK PackageFile: edgeR_4.2.2.tar.gz PackageFileSize: 3.274 MiB