Package: edge Version: 2.36.0 Command: chmod a+r edge -R && F:\biocbuild\bbs-3.19-bioc\R\bin\R.exe CMD build --keep-empty-dirs --no-resave-data edge StartedAt: 2024-06-26 18:33:13 -0400 (Wed, 26 Jun 2024) EndedAt: 2024-06-26 18:34:31 -0400 (Wed, 26 Jun 2024) EllapsedTime: 78.4 seconds RetCode: 0 Status: OK PackageFile: edge_2.36.0.tar.gz PackageFileSize: 999.6 KiB