Package: edge Version: 2.36.0 Command: /home/biocbuild/bbs-3.19-bioc/R/bin/R CMD INSTALL edge StartedAt: 2024-10-16 16:29:06 -0400 (Wed, 16 Oct 2024) EndedAt: 2024-10-16 16:29:30 -0400 (Wed, 16 Oct 2024) EllapsedTime: 24.1 seconds RetCode: 0 Status: OK