Package: ecolitk Version: 1.76.0 Command: /Library/Frameworks/R.framework/Resources/bin/R CMD INSTALL ecolitk StartedAt: 2024-10-16 15:06:51 -0400 (Wed, 16 Oct 2024) EndedAt: 2024-10-16 15:06:59 -0400 (Wed, 16 Oct 2024) EllapsedTime: 7.4 seconds RetCode: 0 Status: OK