Package: ecolitk Version: 1.76.0 Command: rm -rf ecolitk.buildbin-libdir && mkdir ecolitk.buildbin-libdir && /Users/biocbuild/BBS/utils/build-universal.sh ecolitk_1.76.0.tar.gz /Library/Frameworks/R.framework/Resources/bin/R ecolitk.buildbin-libdir StartedAt: 2024-06-10 00:16:27 -0400 (Mon, 10 Jun 2024) EndedAt: 2024-06-10 00:16:32 -0400 (Mon, 10 Jun 2024) EllapsedTime: 5.6 seconds RetCode: 0 Status: OK PackageFile: ecolitk_1.76.0.tgz PackageFileSize: 1.874 MiB