Package: ecolitk Version: 1.76.0 Command: rm -rf ecolitk.buildbin-libdir && mkdir ecolitk.buildbin-libdir && /Users/biocbuild/BBS/utils/build-universal.sh ecolitk_1.76.0.tar.gz /Library/Frameworks/R.framework/Resources/bin/R ecolitk.buildbin-libdir StartedAt: 2024-10-18 18:18:25 -0400 (Fri, 18 Oct 2024) EndedAt: 2024-10-18 18:18:31 -0400 (Fri, 18 Oct 2024) EllapsedTime: 5.8 seconds RetCode: 0 Status: OK PackageFile: ecolitk_1.76.0.tgz PackageFileSize: 1.875 MiB