Package: easyreporting Version: 1.16.0 Command: /Library/Frameworks/R.framework/Resources/bin/R CMD build --keep-empty-dirs --no-resave-data easyreporting StartedAt: 2024-10-16 18:55:04 -0400 (Wed, 16 Oct 2024) EndedAt: 2024-10-16 18:55:24 -0400 (Wed, 16 Oct 2024) EllapsedTime: 19.8 seconds RetCode: 0 Status: OK PackageFile: easyreporting_1.16.0.tar.gz PackageFileSize: 2.94 MiB