Package: easyreporting Version: 1.16.0 Command: /Library/Frameworks/R.framework/Resources/bin/R CMD check --install=check:easyreporting.install-out.txt --library=/Library/Frameworks/R.framework/Resources/library --no-vignettes --timings easyreporting_1.16.0.tar.gz StartedAt: 2024-06-10 14:30:16 -0400 (Mon, 10 Jun 2024) EndedAt: 2024-06-10 14:31:18 -0400 (Mon, 10 Jun 2024) EllapsedTime: 62.0 seconds RetCode: 0 Status: OK CheckDir: easyreporting.Rcheck Warnings: 0