Package: easyRNASeq Version: 2.40.1 Command: E:\biocbuild\bbs-3.19-bioc\R\bin\R.exe CMD check --no-multiarch --install=check:easyRNASeq.install-out.txt --library=E:\biocbuild\bbs-3.19-bioc\R\library --no-vignettes --timings easyRNASeq_2.40.1.tar.gz StartedAt: 2024-10-17 01:06:56 -0400 (Thu, 17 Oct 2024) EndedAt: 2024-10-17 01:18:50 -0400 (Thu, 17 Oct 2024) EllapsedTime: 714.8 seconds RetCode: 0 Status: OK CheckDir: easyRNASeq.Rcheck Warnings: 0