Package: easyRNASeq Version: 2.40.1 Command: chmod a+r easyRNASeq -R && E:\biocbuild\bbs-3.19-bioc\R\bin\R.exe CMD build --keep-empty-dirs --no-resave-data easyRNASeq StartedAt: 2024-10-16 18:49:10 -0400 (Wed, 16 Oct 2024) EndedAt: 2024-10-16 18:54:08 -0400 (Wed, 16 Oct 2024) EllapsedTime: 297.9 seconds RetCode: 0 Status: OK PackageFile: easyRNASeq_2.40.1.tar.gz PackageFileSize: 69.47 MiB