Package: easyRNASeq Version: 2.40.1 Command: rm -rf easyRNASeq.buildbin-libdir && mkdir easyRNASeq.buildbin-libdir && E:\biocbuild\bbs-3.19-bioc\R\bin\R.exe CMD INSTALL --build --library=easyRNASeq.buildbin-libdir easyRNASeq_2.40.1.tar.gz StartedAt: 2024-10-17 07:43:51 -0400 (Thu, 17 Oct 2024) EndedAt: 2024-10-17 07:46:01 -0400 (Thu, 17 Oct 2024) EllapsedTime: 130.8 seconds RetCode: 0 Status: OK PackageFile: easyRNASeq_2.40.1.zip PackageFileSize: 23.98 MiB