Package: easyRNASeq Version: 2.40.1 Command: /home/biocbuild/bbs-3.19-bioc/R/bin/R CMD check --install=check:easyRNASeq.install-out.txt --library=/home/biocbuild/bbs-3.19-bioc/R/site-library --timings easyRNASeq_2.40.1.tar.gz StartedAt: 2024-10-17 00:01:06 -0400 (Thu, 17 Oct 2024) EndedAt: 2024-10-17 00:20:45 -0400 (Thu, 17 Oct 2024) EllapsedTime: 1179.3 seconds RetCode: 0 Status: OK CheckDir: easyRNASeq.Rcheck Warnings: 0