Package: easyRNASeq Version: 2.40.1 Command: /Library/Frameworks/R.framework/Resources/bin/R CMD INSTALL easyRNASeq StartedAt: 2024-10-16 15:52:09 -0400 (Wed, 16 Oct 2024) EndedAt: 2024-10-16 15:53:57 -0400 (Wed, 16 Oct 2024) EllapsedTime: 107.8 seconds RetCode: 0 Status: OK