Package: easyRNASeq Version: 2.40.0 Command: /Library/Frameworks/R.framework/Resources/bin/R CMD INSTALL easyRNASeq StartedAt: 2024-06-09 16:08:40 -0400 (Sun, 09 Jun 2024) EndedAt: 2024-06-09 16:08:59 -0400 (Sun, 09 Jun 2024) EllapsedTime: 19.6 seconds RetCode: 1 Status: ERROR