Package: easyRNASeq Version: 2.40.1 Command: /Library/Frameworks/R.framework/Resources/bin/R CMD build --keep-empty-dirs --no-resave-data easyRNASeq StartedAt: 2024-10-16 23:48:39 -0400 (Wed, 16 Oct 2024) EndedAt: 2024-10-16 23:54:08 -0400 (Wed, 16 Oct 2024) EllapsedTime: 328.6 seconds RetCode: 0 Status: OK PackageFile: easyRNASeq_2.40.1.tar.gz PackageFileSize: 69.55 MiB