Package: easier Version: 1.10.0 Command: chmod a+r easier -R && F:\biocbuild\bbs-3.19-bioc\R\bin\R.exe CMD build --keep-empty-dirs --no-resave-data easier StartedAt: 2024-06-26 18:32:02 -0400 (Wed, 26 Jun 2024) EndedAt: 2024-06-26 18:41:12 -0400 (Wed, 26 Jun 2024) EllapsedTime: 550.3 seconds RetCode: 0 Status: OK PackageFile: easier_1.10.0.tar.gz PackageFileSize: 2.659 MiB