Package: easier Version: 1.10.0 Command: rm -rf easier.buildbin-libdir && mkdir easier.buildbin-libdir && F:\biocbuild\bbs-3.19-bioc\R\bin\R.exe CMD INSTALL --build --library=easier.buildbin-libdir easier_1.10.0.tar.gz StartedAt: 2024-06-27 08:09:12 -0400 (Thu, 27 Jun 2024) EndedAt: 2024-06-27 08:10:02 -0400 (Thu, 27 Jun 2024) EllapsedTime: 49.3 seconds RetCode: 0 Status: OK PackageFile: easier_1.10.0.zip PackageFileSize: 1.866 MiB