Package: easier Version: 1.10.0 Command: /home/biocbuild/R/R-beta-2024-04-15_r86425/bin/R CMD build --keep-empty-dirs --no-resave-data easier StartedAt: 2024-05-09 00:02:27 -0000 (Thu, 09 May 2024) EndedAt: 2024-05-09 00:09:49 -0000 (Thu, 09 May 2024) EllapsedTime: 441.6 seconds RetCode: 0 Status: OK PackageFile: easier_1.10.0.tar.gz PackageFileSize: 2.894 MiB