Package: dyebias Version: 1.64.0 Command: chmod a+r dyebias -R && E:\biocbuild\bbs-3.19-bioc\R\bin\R.exe CMD build --keep-empty-dirs --no-resave-data dyebias StartedAt: 2024-10-16 18:48:28 -0400 (Wed, 16 Oct 2024) EndedAt: 2024-10-16 18:49:16 -0400 (Wed, 16 Oct 2024) EllapsedTime: 48.0 seconds RetCode: 0 Status: OK PackageFile: dyebias_1.64.0.tar.gz PackageFileSize: 2.501 MiB