Package: dyebias Version: 1.64.0 Command: /Library/Frameworks/R.framework/Resources/bin/R CMD INSTALL dyebias StartedAt: 2024-06-09 15:07:37 -0400 (Sun, 09 Jun 2024) EndedAt: 2024-06-09 15:07:58 -0400 (Sun, 09 Jun 2024) EllapsedTime: 20.3 seconds RetCode: 0 Status: OK