Package: dyebias Version: 1.64.0 Command: /home/biocbuild/R/R-beta-2024-04-15_r86425/bin/R CMD INSTALL dyebias StartedAt: 2024-05-08 20:09:49 -0000 (Wed, 08 May 2024) EndedAt: 2024-05-08 20:10:15 -0000 (Wed, 08 May 2024) EllapsedTime: 26.5 seconds RetCode: 0 Status: OK