Package: dyebias Version: 1.64.0 Command: /Library/Frameworks/R.framework/Resources/bin/R CMD check --install=check:dyebias.install-out.txt --library=/Library/Frameworks/R.framework/Resources/library --no-vignettes --timings dyebias_1.64.0.tar.gz StartedAt: 2024-10-17 20:22:18 -0400 (Thu, 17 Oct 2024) EndedAt: 2024-10-17 20:23:10 -0400 (Thu, 17 Oct 2024) EllapsedTime: 51.7 seconds RetCode: 0 Status: OK CheckDir: dyebias.Rcheck Warnings: 0