Package: dupRadar Version: 1.34.0 Command: /home/biocbuild/R/R-beta-2024-04-15_r86425/bin/R CMD build --keep-empty-dirs --no-resave-data dupRadar StartedAt: 2024-05-09 00:02:13 -0000 (Thu, 09 May 2024) EndedAt: 2024-05-09 00:03:07 -0000 (Thu, 09 May 2024) EllapsedTime: 54.1 seconds RetCode: 0 Status: OK PackageFile: dupRadar_1.34.0.tar.gz PackageFileSize: 3.213 MiB