Package: dupRadar Version: 1.34.0 Command: rm -rf dupRadar.buildbin-libdir && mkdir dupRadar.buildbin-libdir && /Users/biocbuild/BBS/utils/build-universal.sh dupRadar_1.34.0.tar.gz /Library/Frameworks/R.framework/Resources/bin/R dupRadar.buildbin-libdir StartedAt: 2024-06-11 11:02:41 -0400 (Tue, 11 Jun 2024) EndedAt: 2024-06-11 11:02:56 -0400 (Tue, 11 Jun 2024) EllapsedTime: 14.7 seconds RetCode: 0 Status: OK PackageFile: dupRadar_1.34.0.tgz PackageFileSize: 4.859 MiB