Package: dupRadar Version: 1.34.0 Command: /Library/Frameworks/R.framework/Resources/bin/R CMD build --keep-empty-dirs --no-resave-data dupRadar StartedAt: 2024-10-16 23:43:08 -0400 (Wed, 16 Oct 2024) EndedAt: 2024-10-16 23:43:57 -0400 (Wed, 16 Oct 2024) EllapsedTime: 48.6 seconds RetCode: 0 Status: OK PackageFile: dupRadar_1.34.0.tar.gz PackageFileSize: 3.865 MiB