Package: dupRadar Version: 1.34.0 Command: rm -rf dupRadar.buildbin-libdir && mkdir dupRadar.buildbin-libdir && /Users/biocbuild/BBS/utils/build-universal.sh dupRadar_1.34.0.tar.gz /Library/Frameworks/R.framework/Resources/bin/R dupRadar.buildbin-libdir StartedAt: 2024-10-18 18:17:28 -0400 (Fri, 18 Oct 2024) EndedAt: 2024-10-18 18:17:39 -0400 (Fri, 18 Oct 2024) EllapsedTime: 10.3 seconds RetCode: 0 Status: OK PackageFile: dupRadar_1.34.0.tgz PackageFileSize: 4.867 MiB