Package: drugTargetInteractions Version: 1.12.0 Command: chmod a+r drugTargetInteractions -R && E:\biocbuild\bbs-3.19-bioc\R\bin\R.exe CMD build --keep-empty-dirs --no-resave-data drugTargetInteractions StartedAt: 2024-10-16 18:47:37 -0400 (Wed, 16 Oct 2024) EndedAt: 2024-10-16 18:50:04 -0400 (Wed, 16 Oct 2024) EllapsedTime: 147.3 seconds RetCode: 0 Status: OK PackageFile: drugTargetInteractions_1.12.0.tar.gz PackageFileSize: 959.1 KiB