Package: drugTargetInteractions Version: 1.12.0 Command: chmod a+r drugTargetInteractions -R && F:\biocbuild\bbs-3.19-bioc\R\bin\R.exe CMD build --keep-empty-dirs --no-resave-data drugTargetInteractions StartedAt: 2024-06-26 18:31:12 -0400 (Wed, 26 Jun 2024) EndedAt: 2024-06-26 18:33:29 -0400 (Wed, 26 Jun 2024) EllapsedTime: 136.3 seconds RetCode: 0 Status: OK PackageFile: drugTargetInteractions_1.12.0.tar.gz PackageFileSize: 959.1 KiB