Package: drugTargetInteractions Version: 1.12.0 Command: /home/biocbuild/bbs-3.19-bioc/R/bin/R CMD check --install=check:drugTargetInteractions.install-out.txt --library=/home/biocbuild/bbs-3.19-bioc/R/site-library --timings drugTargetInteractions_1.12.0.tar.gz StartedAt: 2024-10-16 23:59:13 -0400 (Wed, 16 Oct 2024) EndedAt: 2024-10-17 00:06:13 -0400 (Thu, 17 Oct 2024) EllapsedTime: 419.9 seconds RetCode: 0 Status: OK CheckDir: drugTargetInteractions.Rcheck Warnings: 0