Package: drugTargetInteractions Version: 1.12.0 Command: /home/biocbuild/bbs-3.19-bioc/R/bin/R CMD build --keep-empty-dirs --no-resave-data drugTargetInteractions StartedAt: 2024-10-16 18:17:29 -0400 (Wed, 16 Oct 2024) EndedAt: 2024-10-16 18:19:06 -0400 (Wed, 16 Oct 2024) EllapsedTime: 96.2 seconds RetCode: 0 Status: OK PackageFile: drugTargetInteractions_1.12.0.tar.gz PackageFileSize: 958.7 KiB