Package: drugTargetInteractions Version: 1.12.0 Command: /Library/Frameworks/R.framework/Resources/bin/R CMD check --install=check:drugTargetInteractions.install-out.txt --library=/Library/Frameworks/R.framework/Resources/library --no-vignettes --timings drugTargetInteractions_1.12.0.tar.gz StartedAt: 2024-10-17 04:36:44 -0400 (Thu, 17 Oct 2024) EndedAt: 2024-10-17 04:50:28 -0400 (Thu, 17 Oct 2024) EllapsedTime: 823.6 seconds RetCode: 0 Status: OK CheckDir: drugTargetInteractions.Rcheck Warnings: 0