Package: drugTargetInteractions Version: 1.12.0 Command: /Library/Frameworks/R.framework/Resources/bin/R CMD INSTALL drugTargetInteractions StartedAt: 2024-06-09 15:20:17 -0400 (Sun, 09 Jun 2024) EndedAt: 2024-06-09 15:21:06 -0400 (Sun, 09 Jun 2024) EllapsedTime: 49.2 seconds RetCode: 0 Status: OK