Package: drugTargetInteractions Version: 1.12.0 Command: /home/biocbuild/R/R-beta-2024-04-15_r86425/bin/R CMD INSTALL drugTargetInteractions StartedAt: 2024-05-08 20:27:45 -0000 (Wed, 08 May 2024) EndedAt: 2024-05-08 20:28:37 -0000 (Wed, 08 May 2024) EllapsedTime: 52.1 seconds RetCode: 0 Status: OK