Package: drugTargetInteractions Version: 1.12.0 Command: /home/biocbuild/R/R-beta-2024-04-15_r86425/bin/R CMD build --keep-empty-dirs --no-resave-data drugTargetInteractions StartedAt: 2024-05-09 00:01:23 -0000 (Thu, 09 May 2024) EndedAt: 2024-05-09 00:03:32 -0000 (Thu, 09 May 2024) EllapsedTime: 129.2 seconds RetCode: 0 Status: OK PackageFile: drugTargetInteractions_1.12.0.tar.gz PackageFileSize: 1.03 MiB