Package: drugTargetInteractions Version: 1.12.0 Command: /Library/Frameworks/R.framework/Resources/bin/R CMD build --keep-empty-dirs --no-resave-data drugTargetInteractions StartedAt: 2024-06-09 20:55:15 -0400 (Sun, 09 Jun 2024) EndedAt: 2024-06-09 20:58:27 -0400 (Sun, 09 Jun 2024) EllapsedTime: 192.9 seconds RetCode: 0 Status: OK PackageFile: drugTargetInteractions_1.12.0.tar.gz PackageFileSize: 958.8 KiB