Package: drugTargetInteractions Version: 1.12.0 Command: /Library/Frameworks/R.framework/Resources/bin/R CMD INSTALL drugTargetInteractions StartedAt: 2024-10-16 17:03:55 -0400 (Wed, 16 Oct 2024) EndedAt: 2024-10-16 17:04:40 -0400 (Wed, 16 Oct 2024) EllapsedTime: 45.3 seconds RetCode: 0 Status: OK