Package: drugTargetInteractions Version: 1.12.0 Command: /Library/Frameworks/R.framework/Resources/bin/R CMD build --keep-empty-dirs --no-resave-data drugTargetInteractions StartedAt: 2024-10-16 23:39:46 -0400 (Wed, 16 Oct 2024) EndedAt: 2024-10-16 23:42:03 -0400 (Wed, 16 Oct 2024) EllapsedTime: 137.4 seconds RetCode: 0 Status: OK PackageFile: drugTargetInteractions_1.12.0.tar.gz PackageFileSize: 958.8 KiB