Package: drugTargetInteractions Version: 1.12.0 Command: rm -rf drugTargetInteractions.buildbin-libdir && mkdir drugTargetInteractions.buildbin-libdir && /Users/biocbuild/BBS/utils/build-universal.sh drugTargetInteractions_1.12.0.tar.gz /Library/Frameworks/R.framework/Resources/bin/R drugTargetInteractions.buildbin-libdir StartedAt: 2024-10-18 18:16:23 -0400 (Fri, 18 Oct 2024) EndedAt: 2024-10-18 18:17:17 -0400 (Fri, 18 Oct 2024) EllapsedTime: 54.6 seconds RetCode: 0 Status: OK PackageFile: drugTargetInteractions_1.12.0.tgz PackageFileSize: 1009 KiB