Package: drugTargetInteractions Version: 1.12.0 Maintainer: Thomas Girke MaintainerEmail: thomas.girke at ucr.edu git_url: https://git.bioconductor.org/packages/drugTargetInteractions git_branch: RELEASE_3_19 git_last_commit: d647cee git_last_commit_date: 2024-04-30 11:32:34 -0400 (Tue, 30 Apr 2024)