Package: dreamlet Version: 1.2.1 Command: chmod a+r dreamlet -R && E:\biocbuild\bbs-3.19-bioc\R\bin\R.exe CMD build --keep-empty-dirs --no-resave-data dreamlet StartedAt: 2024-10-16 18:47:19 -0400 (Wed, 16 Oct 2024) EndedAt: 2024-10-16 18:59:56 -0400 (Wed, 16 Oct 2024) EllapsedTime: 757.1 seconds RetCode: 0 Status: OK PackageFile: dreamlet_1.2.1.tar.gz PackageFileSize: 2.999 MiB