Package: dreamlet Version: 1.2.1 Command: /home/biocbuild/bbs-3.19-bioc/R/bin/R CMD INSTALL dreamlet StartedAt: 2024-10-16 16:46:40 -0400 (Wed, 16 Oct 2024) EndedAt: 2024-10-16 16:47:46 -0400 (Wed, 16 Oct 2024) EllapsedTime: 66.2 seconds RetCode: 0 Status: OK