Package: dreamlet Version: 1.2.1 Command: /home/biocbuild/bbs-3.19-bioc/R/bin/R CMD check --install=check:dreamlet.install-out.txt --library=/home/biocbuild/bbs-3.19-bioc/R/site-library --timings dreamlet_1.2.1.tar.gz StartedAt: 2024-10-16 23:58:13 -0400 (Wed, 16 Oct 2024) EndedAt: 2024-10-17 00:15:47 -0400 (Thu, 17 Oct 2024) EllapsedTime: 1054.1 seconds RetCode: 0 Status: OK CheckDir: dreamlet.Rcheck Warnings: 0