Package: dreamlet Version: 1.2.1 Command: /home/biocbuild/bbs-3.19-bioc/R/bin/R CMD build --keep-empty-dirs --no-resave-data dreamlet StartedAt: 2024-10-16 18:17:05 -0400 (Wed, 16 Oct 2024) EndedAt: 2024-10-16 18:23:31 -0400 (Wed, 16 Oct 2024) EllapsedTime: 385.8 seconds RetCode: 0 Status: OK PackageFile: dreamlet_1.2.1.tar.gz PackageFileSize: 3.997 MiB