Package: dreamlet Version: 1.2.1 Command: /Library/Frameworks/R.framework/Resources/bin/R CMD INSTALL dreamlet StartedAt: 2024-10-16 18:57:43 -0400 (Wed, 16 Oct 2024) EndedAt: 2024-10-16 18:59:01 -0400 (Wed, 16 Oct 2024) EllapsedTime: 77.2 seconds RetCode: 0 Status: OK