Package: drawProteins Version: 1.24.0 Command: rm -rf drawProteins.buildbin-libdir && mkdir drawProteins.buildbin-libdir && F:\biocbuild\bbs-3.19-bioc\R\bin\R.exe CMD INSTALL --build --library=drawProteins.buildbin-libdir drawProteins_1.24.0.tar.gz StartedAt: 2024-06-27 08:08:42 -0400 (Thu, 27 Jun 2024) EndedAt: 2024-06-27 08:08:51 -0400 (Thu, 27 Jun 2024) EllapsedTime: 8.8 seconds RetCode: 0 Status: OK PackageFile: drawProteins_1.24.0.zip PackageFileSize: 858 KiB