Package: drawProteins Version: 1.24.0 Command: /Library/Frameworks/R.framework/Resources/bin/R CMD check --install=check:drawProteins.install-out.txt --library=/Library/Frameworks/R.framework/Resources/library --no-vignettes --timings drawProteins_1.24.0.tar.gz StartedAt: 2024-10-17 04:34:29 -0400 (Thu, 17 Oct 2024) EndedAt: 2024-10-17 04:36:16 -0400 (Thu, 17 Oct 2024) EllapsedTime: 106.7 seconds RetCode: 1 Status: ERROR CheckDir: drawProteins.Rcheck Warnings: NA